BEGIN:VCALENDAR
VERSION:2.0
PRODID:-//Jewish Community Day School of Rhode Island - ECPv6.15.17//NONSGML v1.0//EN
CALSCALE:GREGORIAN
METHOD:PUBLISH
X-ORIGINAL-URL:https://jcdsri.com
X-WR-CALDESC:Events for Jewish Community Day School of Rhode Island
REFRESH-INTERVAL;VALUE=DURATION:PT1H
X-Robots-Tag:noindex
X-PUBLISHED-TTL:PT1H
BEGIN:VTIMEZONE
TZID:America/New_York
BEGIN:DAYLIGHT
TZOFFSETFROM:-0500
TZOFFSETTO:-0400
TZNAME:EDT
DTSTART:20250309T070000
END:DAYLIGHT
BEGIN:STANDARD
TZOFFSETFROM:-0400
TZOFFSETTO:-0500
TZNAME:EST
DTSTART:20251102T060000
END:STANDARD
BEGIN:DAYLIGHT
TZOFFSETFROM:-0500
TZOFFSETTO:-0400
TZNAME:EDT
DTSTART:20260308T070000
END:DAYLIGHT
BEGIN:STANDARD
TZOFFSETFROM:-0400
TZOFFSETTO:-0500
TZNAME:EST
DTSTART:20261101T060000
END:STANDARD
BEGIN:DAYLIGHT
TZOFFSETFROM:-0500
TZOFFSETTO:-0400
TZNAME:EDT
DTSTART:20270314T070000
END:DAYLIGHT
BEGIN:STANDARD
TZOFFSETFROM:-0400
TZOFFSETTO:-0500
TZNAME:EST
DTSTART:20271107T060000
END:STANDARD
END:VTIMEZONE
BEGIN:VEVENT
DTSTART;VALUE=DATE:20260302
DTEND;VALUE=DATE:20260303
DTSTAMP:20260422T081848
CREATED:20250730T011310Z
LAST-MODIFIED:20250730T011310Z
UID:12755-1772409600-1772495999@jcdsri.com
SUMMARY:Purim Spirit Day
DESCRIPTION:
URL:https://jcdsri.com/event/purim-spirit-day-5/
END:VEVENT
BEGIN:VEVENT
DTSTART;VALUE=DATE:20260303
DTEND;VALUE=DATE:20260304
DTSTAMP:20260422T081848
CREATED:20250730T011336Z
LAST-MODIFIED:20250730T011336Z
UID:12756-1772496000-1772582399@jcdsri.com
SUMMARY:Purim!
DESCRIPTION:
URL:https://jcdsri.com/event/purim-2/
END:VEVENT
BEGIN:VEVENT
DTSTART;VALUE=DATE:20260306
DTEND;VALUE=DATE:20260307
DTSTAMP:20260422T081848
CREATED:20250730T011432Z
LAST-MODIFIED:20250730T011432Z
UID:12757-1772755200-1772841599@jcdsri.com
SUMMARY:Community Reading Day @JCDSRI
DESCRIPTION:
URL:https://jcdsri.com/event/community-reading-day-jcdsri/
END:VEVENT
BEGIN:VEVENT
DTSTART;TZID=America/New_York:20260310T080000
DTEND;TZID=America/New_York:20260310T090000
DTSTAMP:20260422T081848
CREATED:20250730T011626Z
LAST-MODIFIED:20250730T011626Z
UID:12758-1773129600-1773133200@jcdsri.com
SUMMARY:JCDSRI Cafe
DESCRIPTION:We invite all JCDSRI parents to join us for a cup of coffee right after drop-off. We will have the opportunity to get to know one another\, enjoy some uninterrupted conversation\, and have a delicious cup of coffee to get the day started. We hope you will attend one or all of these events.
URL:https://jcdsri.com/event/jcdsri-cafe-27/
END:VEVENT
BEGIN:VEVENT
DTSTART;TZID=America/New_York:20260313T133000
DTEND;TZID=America/New_York:20260313T143000
DTSTAMP:20260422T081848
CREATED:20250730T011710Z
LAST-MODIFIED:20250730T011710Z
UID:12759-1773408600-1773412200@jcdsri.com
SUMMARY:Community Kabbalat Shabbat
DESCRIPTION:
URL:https://jcdsri.com/event/community-kabbalat-shabbat/
END:VEVENT
BEGIN:VEVENT
DTSTART;VALUE=DATE:20260316
DTEND;VALUE=DATE:20260317
DTSTAMP:20260422T081848
CREATED:20250730T011836Z
LAST-MODIFIED:20250730T011836Z
UID:12760-1773619200-1773705599@jcdsri.com
SUMMARY:Parent Teacher Conferences
DESCRIPTION:School is closed.
URL:https://jcdsri.com/event/parent-teacher-conferences-4/
END:VEVENT
BEGIN:VEVENT
DTSTART;VALUE=DATE:20260329
DTEND;VALUE=DATE:20260330
DTSTAMP:20260422T081848
CREATED:20250730T011915Z
LAST-MODIFIED:20250730T011915Z
UID:12761-1774742400-1774828799@jcdsri.com
SUMMARY:Good Deeds Day
DESCRIPTION:
URL:https://jcdsri.com/event/good-deeds-day-3/
END:VEVENT
END:VCALENDAR